BEGIN:VCALENDAR
VERSION:2.0
PRODID:-//eventon.com NONSGML v1.0//EN
CALSCALE:GREGORIAN
METHOD:PUBLISH
BEGIN:VEVENT
UID:69e930ab98e81
DTSTAMP:20260422T203347Z
DTSTART:20230930T160000Z
DTEND:20230930T215000Z
LOCATION:
SUMMARY:Konzert für Orgel und Handglocken
DESCRIPTION:Konzert für Orgel und Handglocken\nhttps://handglockenchor-got
 ha.de/events/konzert-fuer-orgel-und-handglocken/
URL:https://handglockenchor-gotha.de/events/konzert-fuer-orgel-und-handglocken/
END:VEVENT
END:VCALENDAR