BEGIN:VCALENDAR
VERSION:2.0
PRODID:-//eventon.com NONSGML v1.0//EN
CALSCALE:GREGORIAN
METHOD:PUBLISH
BEGIN:VEVENT
UID:69ecc25d62f6e
DTSTAMP:20260425T133213Z
DTSTART:20231203T150000Z
DTEND:20231203T225000Z
LOCATION:
SUMMARY:Konzert
DESCRIPTION:Konzert\nhttps://handglockenchor-gotha.de/events/konzert-3/
URL:https://handglockenchor-gotha.de/events/konzert-3/
END:VEVENT
END:VCALENDAR