BEGIN:VCALENDAR
VERSION:2.0
PRODID:-//eventon.com NONSGML v1.0//EN
CALSCALE:GREGORIAN
METHOD:PUBLISH
BEGIN:VEVENT
UID:69e989820c176
DTSTAMP:20260423T025250Z
DTSTART:20250104T170000Z
DTEND:20250104T235000Z
LOCATION:
SUMMARY:36. Benefizkonzert
DESCRIPTION:36. Benefizkonzert\nhttps://handglockenchor-gotha.de/events/36-
 benefizkonzert/
URL:https://handglockenchor-gotha.de/events/36-benefizkonzert/
END:VEVENT
END:VCALENDAR