BEGIN:VCALENDAR
VERSION:2.0
PRODID:-//eventon.com NONSGML v1.0//EN
CALSCALE:GREGORIAN
METHOD:PUBLISH
BEGIN:VEVENT
UID:69e8019761242
DTSTAMP:20260421T230039Z
DTSTART:20241018T140000Z
DTEND:20241018T150000Z
LOCATION:
SUMMARY:Auftritt zum 30 jährigen Jubiläum
DESCRIPTION:Auftritt zum 30 jährigen Jubiläum\nhttps://handglockenchor-go
 tha.de/events/auftritt-zum-30-jaehrigen-jubilaeum/
URL:https://handglockenchor-gotha.de/events/auftritt-zum-30-jaehrigen-jubilaeum/
END:VEVENT
END:VCALENDAR