BEGIN:VCALENDAR
VERSION:2.0
PRODID:-//eventon.com NONSGML v1.0//EN
CALSCALE:GREGORIAN
METHOD:PUBLISH
BEGIN:VEVENT
UID:69e8fdddee66a
DTSTAMP:20260422T165701Z
DTSTART:20250721T000000Z
DTEND:20250804T000000Z
LOCATION:
SUMMARY:6. USA Konzert-Tour
DESCRIPTION:6. USA Konzert-Tour\nhttps://handglockenchor-gotha.de/events/6-
 usa-konzert-tour/
URL:https://handglockenchor-gotha.de/events/6-usa-konzert-tour/
END:VEVENT
END:VCALENDAR